BEGIN:VCALENDAR
VERSION:2.0
PRODID:-//NJSZK - ECPv6.2.8.2//NONSGML v1.0//EN
CALSCALE:GREGORIAN
METHOD:PUBLISH
X-WR-CALNAME:NJSZK
X-ORIGINAL-URL:https://njszk.uni-obuda.hu
X-WR-CALDESC:Events for NJSZK
REFRESH-INTERVAL;VALUE=DURATION:PT1H
X-Robots-Tag:noindex
X-PUBLISHED-TTL:PT1H
BEGIN:VTIMEZONE
TZID:UTC
BEGIN:STANDARD
TZOFFSETFROM:+0000
TZOFFSETTO:+0000
TZNAME:UTC
DTSTART:20220101T000000
END:STANDARD
END:VTIMEZONE
BEGIN:VEVENT
DTSTART;VALUE=DATE:20221228
DTEND;VALUE=DATE:20221229
DTSTAMP:20260421T202003
CREATED:20230916T160439Z
LAST-MODIFIED:20230916T160439Z
UID:240-1672185600-1672271999@njszk.uni-obuda.hu
SUMMARY:Fiatal Kutatók Konferencia
DESCRIPTION:A szakkollégium interdiszciplináris konferenciáján a hallgatók bemutatták egymásnak kutatási területeiket.
URL:https://njszk.uni-obuda.hu/event/fiatal-kutatok-konferencia/
LOCATION:NIK BA.4.01\, Bécsi út 96/B\, Budapest\, Budapest\, 1034\, Magyarország
END:VEVENT
BEGIN:VEVENT
DTSTART;VALUE=DATE:20230125
DTEND;VALUE=DATE:20230126
DTSTAMP:20260421T202003
CREATED:20230916T155740Z
LAST-MODIFIED:20230916T155740Z
UID:230-1674604800-1674691199@njszk.uni-obuda.hu
SUMMARY:Információvédelem menedzselése CIV. Szakmai fórum
DESCRIPTION:Az Óbudai Egyetem Neumann János Szakkollégium és a Nemzeti Közszolgálati Egyetem Puskás Tivadar Műszaki Szakkollégium közösen ellátogatott az Információvédelem menedzselése CIV. Szakmai fórumára hol aktualitásokról hallhattunk az információ védelem területés\, bevezettek minket a bankibiztonságba\, valamit a Szabályozott Tevékenységek Felügyeleti Hatósága tartott tájékoztatást a jogszabályi változásokról. Ezt követte a Nemzetbiztonsági Szakszolgálat Nemzeti Kibervédelmi Intézetének éves beszámolója.
URL:https://njszk.uni-obuda.hu/event/informaciovedelem-menedzselese-civ-szakmai-forum/
LOCATION:NIK BA.4.01\, Bécsi út 96/B\, Budapest\, Budapest\, 1034\, Magyarország
END:VEVENT
BEGIN:VEVENT
DTSTART;VALUE=DATE:20230215
DTEND;VALUE=DATE:20230216
DTSTAMP:20260421T202003
CREATED:20230916T155631Z
LAST-MODIFIED:20230916T155631Z
UID:228-1676419200-1676505599@njszk.uni-obuda.hu
SUMMARY:Űrtávközlés és az internet világa nemcsak űrmérnököknek
DESCRIPTION:A Starlink terminállal szerzett NMHH tapasztalatokat összefoglaló\, a BME-vel közösen szervezett előadásra.\nŰrtávközlés és az internet világa nemcsak űrmérnököknek\nA Nemzeti Média és Hírközlési Hatóság\, valamint a BME Villamosmérnöki és Informatikai Kara tájékoztató előadást szervez az űrtávközlés feltörekvő területéről\, a műholdseregek megjelenéséről\, különös tekintettel a Starlink rendszerre\, annak felépítéséről\, használatának eddigi tapasztalatairól.
URL:https://njszk.uni-obuda.hu/event/urtavkozles-es-az-internet-vilaga-nemcsak-urmernokoknek/
LOCATION:Budapest
END:VEVENT
BEGIN:VEVENT
DTSTART;VALUE=DATE:20230216
DTEND;VALUE=DATE:20230217
DTSTAMP:20260421T202003
CREATED:20230916T154521Z
LAST-MODIFIED:20230916T154521Z
UID:216-1676505600-1676591999@njszk.uni-obuda.hu
SUMMARY:Internet Biztonság Nap alkalmából tudatosító foglalkozás tartása
DESCRIPTION:Szakkollégiumunk a Nemzeti Közszolgálati Egyetem Puskás Tivadat Műszaki Szakkollégiummal közösen részt vett a Szinyei Merse Pál Gimnázium Internet Biztonság napján\, ahol kiberbiztonsági tudatosító képzést tartottunk gimnazistáknak.
URL:https://njszk.uni-obuda.hu/event/internet-biztonsag-nap-alkalmabol-tudatosito-foglalkozas-tartasa/
LOCATION:Budapest
END:VEVENT
BEGIN:VEVENT
DTSTART;VALUE=DATE:20230223
DTEND;VALUE=DATE:20230224
DTSTAMP:20260421T202003
CREATED:20230916T154821Z
LAST-MODIFIED:20230920T082552Z
UID:224-1677110400-1677196799@njszk.uni-obuda.hu
SUMMARY:EIVOK - 33. Információbiztonsági Szakmai Fórum
DESCRIPTION:Az egyetemek közötti együttműködés jegyében az Óbudai Egyetem Neumann János Szakkollégium és a Nemzeti Közszolgálati Egyetem Puskás Tivadar Műszaki Szakkollégium hallgatói közösen látogatták meg A Hírközlési és Informatikai Tudományos Egyesület Elektronikus Információbiztonsági Vezetők Okosan Klubja által szervezett EIVOK-33. Információbiztonsági Szakmai Fórumát
URL:https://njszk.uni-obuda.hu/event/eivok-33-informaciobiztonsagi-szakmai-forum/
LOCATION:Budapest
END:VEVENT
BEGIN:VEVENT
DTSTART;VALUE=DATE:20230226
DTEND;VALUE=DATE:20230227
DTSTAMP:20260421T202003
CREATED:20230916T160038Z
LAST-MODIFIED:20230916T160038Z
UID:234-1677369600-1677455999@njszk.uni-obuda.hu
SUMMARY:Visibility workshop
DESCRIPTION:Szakkollégimunk tagjai megismerhették azokat a módszereket amikkel láthatóvá tehetik tudományos munkáikat
URL:https://njszk.uni-obuda.hu/event/visibility-workshop/
LOCATION:Budapest
END:VEVENT
BEGIN:VEVENT
DTSTART;VALUE=DATE:20230323
DTEND;VALUE=DATE:20230324
DTSTAMP:20260421T202003
CREATED:20230916T153858Z
LAST-MODIFIED:20230916T153858Z
UID:205-1679529600-1679615999@njszk.uni-obuda.hu
SUMMARY:ChatGPT Vitaest
DESCRIPTION:Az Óbudai Egyetem Neumann János Szakkollégiuma és a Nemzeti Közszolgálati Egyetem Puskás Tivadar Műszaki Szakkollégium közös vitaestje. Megvitattuk a ChatGPT hatásait a jövőnkre illetve a társadalomra nézve\, valamint vitáztunk arról\, hogy ez milyen hatással lehet majd a munkaerőpiacra.
URL:https://njszk.uni-obuda.hu/event/chatgpt-vitaest/
LOCATION:NIK BA.4.01\, Bécsi út 96/B\, Budapest\, Budapest\, 1034\, Magyarország
END:VEVENT
BEGIN:VEVENT
DTSTART;VALUE=DATE:20230329
DTEND;VALUE=DATE:20230330
DTSTAMP:20260421T202003
CREATED:20230916T154556Z
LAST-MODIFIED:20230916T154556Z
UID:218-1680048000-1680134399@njszk.uni-obuda.hu
SUMMARY:A kiberhadviselés aktuális kérdései
DESCRIPTION:Az Óbudai Egyetem Neumann János Szakkollégium és a Nemzeti Közszolgálati Egyetem Puskás Tivadar Műszaki Szakkollégium közös eseménye ahol Dr. Bányász Péter tartott előadást a kiberhadviselés aktuális kérdéseiről\, így jobban megismerve a szomszédunkban zajló konfliktus kiberbiztonsági kihívásait.
URL:https://njszk.uni-obuda.hu/event/a-kiberhadviseles-aktualis-kerdesei/
LOCATION:Budapest
END:VEVENT
BEGIN:VEVENT
DTSTART;VALUE=DATE:20230330
DTEND;VALUE=DATE:20230331
DTSTAMP:20260421T202003
CREATED:20230916T154639Z
LAST-MODIFIED:20230916T154639Z
UID:220-1680134400-1680220799@njszk.uni-obuda.hu
SUMMARY:EIVOK - 34. Információbiztonsági Szakmai Fórum
DESCRIPTION:Az egyetemek közötti együttműködés jegyében az Óbudai Egyetem Neumann János Szakkollégium és a Nemzeti Közszolgálati Egyetem Puskás Tivadar Műszaki Szakkollégium hallgatói közösen látogatták meg A Hírközlési és Informatikai Tudományos Egyesület Elektronikus Információbiztonsági Vezetők Okosan Klubja által szervezett EIVOK-34. Információbiztonsági Szakmai Fórumát
URL:https://njszk.uni-obuda.hu/event/eivok-34-informaciobiztonsagi-szakmai-forum/
LOCATION:Budapest
END:VEVENT
BEGIN:VEVENT
DTSTART;VALUE=DATE:20230414
DTEND;VALUE=DATE:20230417
DTSTAMP:20260421T202003
CREATED:20230916T154123Z
LAST-MODIFIED:20230916T154123Z
UID:210-1681430400-1681689599@njszk.uni-obuda.hu
SUMMARY:Országos Szakkolégium Találkozó
DESCRIPTION:Az Országos Szakkolégium Találkozón egyeztettünk a többi szakkollégium vezetésével\, hogy hogyan formálhatnánk még jobban a magyar tehetséggondozást!
URL:https://njszk.uni-obuda.hu/event/orszagos-szakkolegium-talalkozo/
LOCATION:Budapest
END:VEVENT
BEGIN:VEVENT
DTSTART;VALUE=DATE:20230416
DTEND;VALUE=DATE:20230417
DTSTAMP:20260421T202003
CREATED:20230916T160316Z
LAST-MODIFIED:20230916T160316Z
UID:238-1681603200-1681689599@njszk.uni-obuda.hu
SUMMARY:Kutatások a hadtudományban IV.
DESCRIPTION:Szakmai-tudományos konferencia\, Szervezők: a Közszolgálati Egyetemen működő Puskás Tivadar Műszaki Szakkollégium\, az Óbudai Egyetemen működő Neumann János Szakkollégium és a Magyar Hadtudományi Társaság Kápolnai Pauer István Ifjúsági Klub. Krasnyánszki Brúnó előadást tartott az ‘Email és SMS biztonság növelésének lehetősége a védelmi szférában’ címmel.
URL:https://njszk.uni-obuda.hu/event/kutatasok-a-hadtudomanyban-iv/
LOCATION:Budapest
END:VEVENT
BEGIN:VEVENT
DTSTART;VALUE=DATE:20230418
DTEND;VALUE=DATE:20230419
DTSTAMP:20260421T202003
CREATED:20230916T155403Z
LAST-MODIFIED:20230916T155403Z
UID:226-1681776000-1681862399@njszk.uni-obuda.hu
SUMMARY:Kommunikáció és streszkezelés ménököknek
DESCRIPTION:Dr. Kriskó Edina tartott kommunikációról és stresszkezelésről képzést szakkollégiumunk tagjainak
URL:https://njszk.uni-obuda.hu/event/kommunikacio-es-streszkezeles-menokoknek/
LOCATION:NIK BA.4.01\, Bécsi út 96/B\, Budapest\, Budapest\, 1034\, Magyarország
END:VEVENT
BEGIN:VEVENT
DTSTART;VALUE=DATE:20230419
DTEND;VALUE=DATE:20230420
DTSTAMP:20260421T202003
CREATED:20230916T154022Z
LAST-MODIFIED:20230916T154022Z
UID:208-1681862400-1681948799@njszk.uni-obuda.hu
SUMMARY:Teadélután - Sztochaisztikus terrorizmus a közösségi médiában
DESCRIPTION:Megtartottuk a sztochasztikus terrorizmus és a social média kapcsolatát boncolgató teadélutánunkat.\nElég sok érdekes témát érintettünk a social média kapcsán\, jó és rossz oldalról is kivesézve.\nFőleg hogy mindennapi gondolkodásunkat mennyire befolyásolja a social média anélkül hogy belegondolnánk.
URL:https://njszk.uni-obuda.hu/event/teadelutan-sztochaisztikus-terrorizmus-a-kozossegi-mediaban/
LOCATION:NIK BA.4.01\, Bécsi út 96/B\, Budapest\, Budapest\, 1034\, Magyarország
END:VEVENT
BEGIN:VEVENT
DTSTART;VALUE=DATE:20230510
DTEND;VALUE=DATE:20230511
DTSTAMP:20260421T202003
CREATED:20230916T154432Z
LAST-MODIFIED:20230916T154432Z
UID:214-1683676800-1683763199@njszk.uni-obuda.hu
SUMMARY:57. Tudományos Diákköri Konferencia
DESCRIPTION:A hagyományőrző TDK-n szakkollégiumunk képviseltette magát több karon is. Krasnyánszki Brúnó I. helyezést ért el. Dolgozatának címe: Mesterséges intelligencia alapú email biztonsági megoldások alacsony hatékonyságának gyökér okainak vizsgálata Social Engineering támadások során
URL:https://njszk.uni-obuda.hu/event/57-tudomanyos-diakkori-konferencia/
LOCATION:Budapest
END:VEVENT
BEGIN:VEVENT
DTSTART;VALUE=DATE:20230510
DTEND;VALUE=DATE:20230511
DTSTAMP:20260421T202003
CREATED:20230916T161731Z
LAST-MODIFIED:20230916T161731Z
UID:260-1683676800-1683763199@njszk.uni-obuda.hu
SUMMARY:Az AI forradalma: Barátunk vagy Ellenségünk?
DESCRIPTION:A Nemzeti Közszolgálati Egyetem Hadtudományi és Honvédtisztképző Karon működő Puskás\nTivadar Műszaki Szakkollégiuma és az Óbudai Egyetem Neumann János Informatikai Karán\nműködő Neumann János Szakkollégiuma\, valamint a Magyar Hadtudományi Társaság\nKápolnai Pauer Ifjúsági Klub tisztelettel meghívja Önt az ‘Az MI forradalom: Barátunk vagy\nellenségünk?’ című konferenciájára.\nProgram:\nIdőpont ‎ ‎‎‎‎‎‎‎ ‎‎‎ ‎‎‎ ‎ ‎‎‎ ‎ ‎ ‎ ‎‎Előadó neve\n17:00-17:30 ‎‎ ‎ ‎ ‎Dr. Bányász Péter\n17:30-18:00 ‎ ‎ ‎ ‎Dr. Kutor László\n18:00-18:30‎ ‎ ‎ ‎ ENISA\n18:30-19:00 ‎ ‎ ‎ Dr. Kollár Csaba\n19:00-19:10 ‎ ‎ ‎ Szünet\n19:10-20:00 ‎ ‎ ‎‎ Kerekasztalbeszélgetés\nA konferencia célja az\, hogy megismertesse az érdeklődőket a mesterséges intelligencia\nfejlődésének trendjével\, valamint az ennek köszönhető társadalmi változásokkal.\nAz érdeklődők számára egy tudományos szakmai fórum biztosítása a ismeretterjesztés\, valamint\nkapcsolatépítés céljából.\nA kerekasztal beszélgetés célja\, hogy az érdeklődők első kézből kaphassanak választ az őket\nfoglalkoztató témákról.
URL:https://njszk.uni-obuda.hu/event/az-ai-forradalma-baratunk-vagy-ellensegunk/
LOCATION:Budapest
END:VEVENT
BEGIN:VEVENT
DTSTART;VALUE=DATE:20230526
DTEND;VALUE=DATE:20230527
DTSTAMP:20260421T202003
CREATED:20230916T160223Z
LAST-MODIFIED:20230916T160223Z
UID:236-1685059200-1685145599@njszk.uni-obuda.hu
SUMMARY:Új Típusú Kihívások a Biztonságban
DESCRIPTION:Az Óbudai Egyetem Neumann János Szakkollégium és a Nemzeti Közszolgálati Egyetem Puskás Tivadar Műszaki Szakkollégiuma közös konferenciája ahol Krasnyánszki Brúnó Szakkollégánk előadást is tartott ‘Új típusú email biztonsági kihívások’ címmel. A konferencia többi előadása interdiszciplináris jellegéből fakadóan mindenki érdeklődését felkeltette.
URL:https://njszk.uni-obuda.hu/event/uj-tipusu-kihivasok-a-biztonsagban/
LOCATION:Budapest
END:VEVENT
BEGIN:VEVENT
DTSTART;VALUE=DATE:20230620
DTEND;VALUE=DATE:20230621
DTSTAMP:20260421T202003
CREATED:20230916T155909Z
LAST-MODIFIED:20231021T132201Z
UID:232-1687219200-1687305599@njszk.uni-obuda.hu
SUMMARY:EYE2023 - European Youth Event
DESCRIPTION:Szakkollégumunk 2 tagja lehetőséget kapott rá\, hogy részt vegyen Strassbourgban az Europai Unió új kiberbiztonságról és mesterséges intelligenciáról folytatott törvényhozás megismerésén.
URL:https://njszk.uni-obuda.hu/event/eye2023-european-youth-event/
LOCATION:Budapest
END:VEVENT
BEGIN:VEVENT
DTSTART;VALUE=DATE:20230706
DTEND;VALUE=DATE:20230710
DTSTAMP:20260421T202003
CREATED:20230916T161832Z
LAST-MODIFIED:20231021T132201Z
UID:262-1688601600-1688947199@njszk.uni-obuda.hu
SUMMARY:Rákóczi Szabadegyetem
DESCRIPTION:Július 6.-9.-ig Szakkollégiumunk tagjai a Rákóczi Szövetség által szervezett szabadegyetemen vehettek részt. A szabadegyetemen az aktuális magyarországi és közép-európai közéleti\, gazdasági\, nemzetpolitikai és kulturális témák kerültek megvitatásra. Az eseményre Kárpát-medence-szerte jöttek honfitársaink\, így is erősítve a rendezvény egyik legfőbb üzenetét: A magyarság összetartásának fontosságát\, összetartozásának tényét.\n📍A Rákóczi Szövetség tábora és rendezvényközpontja Sátoraljaújhelyen kapott helyet\, a város fölé magasodó domb oldalában. A felújított\, gyönyörű és kényelmes üdülőhely sportolási lehetőségekben\, kiváló fogásokban\, illetve szórakozási lehetőségekben gazdag táborozó-élményt nyújtott a minket képviselő tagjaink számára.\n💎Az előadások és programok napközben kiválóan lekötötték a résztvevők figyelmét\, vagy ha valaki úgy érezte lepihenne\, a tábor medencéjéhez is ellátogathatott. Az előadások és pihenés mellett természetesen sor került munkára is: Futball mini-bajnokság keretein belül mérethették meg magukat a csapatok.\n📚A rendezvény szakmai oldalát erősíti a kitűnő előadói gárda\, akik részvételükkel hozzájárultak ennek a három napnak a minőségi és tanulságos eltöltéséhez.
URL:https://njszk.uni-obuda.hu/event/rakoczi-szabadegyetem/
LOCATION:Budapest
END:VEVENT
BEGIN:VEVENT
DTSTART;VALUE=DATE:20230901
DTEND;VALUE=DATE:20230902
DTSTAMP:20260421T202003
CREATED:20230916T154317Z
LAST-MODIFIED:20231021T132201Z
UID:212-1693526400-1693612799@njszk.uni-obuda.hu
SUMMARY:Gólya Tábor Quiz
DESCRIPTION:A Neumann János Szakkollégium a Jánossy Ferenc szakkollégiummal közösen interdiszciplináris előadásokatt tartott a frissen felvett hallgatóknak. Valamint lehetőségük volt egy quizz keretében megnézni\, mennyire ismerik egyetünk névadóit.
URL:https://njszk.uni-obuda.hu/event/golya-tabor-quiz/
LOCATION:Budapest
END:VEVENT
BEGIN:VEVENT
DTSTART;VALUE=DATE:20230908
DTEND;VALUE=DATE:20230909
DTSTAMP:20260421T202003
CREATED:20230916T154725Z
LAST-MODIFIED:20231021T132201Z
UID:222-1694131200-1694217599@njszk.uni-obuda.hu
SUMMARY:EIVOK - 37. Információbiztonsági Szakmai Fórum
DESCRIPTION:Az egyetemek közötti együttműködés jegyében az Óbudai Egyetem Neumann János Szakkollégium és a Nemzeti Közszolgálati Egyetem Puskás Tivadar Műszaki Szakkollégium hallgatói közösen látogatták meg A Hírközlési és Informatikai Tudományos Egyesület Elektronikus Információbiztonsági Vezetők Okosan Klubja által szervezett EIVOK-37. Információbiztonsági Szakmai Fórumát
URL:https://njszk.uni-obuda.hu/event/eivok-37-informaciobiztonsagi-szakmai-forum/
LOCATION:Budapest
END:VEVENT
BEGIN:VEVENT
DTSTART;TZID=UTC:20230913T163000
DTEND;TZID=UTC:20230913T190000
DTSTAMP:20260421T202003
CREATED:20230912T211506Z
LAST-MODIFIED:20231021T132339Z
UID:164-1694622600-1694631600@njszk.uni-obuda.hu
SUMMARY:23/24 Tanévnyitó taggyűlés
DESCRIPTION:Tisztelt Érdeklődő!\nEzúton szeretnénk meghívni a tanévnyitó taggyűlésünkre. A taggyűlés jelenléti formában lesz megtartva. \nIdőpont: 2023. szeptember 13.\, szerda 16:30.\nHelyszín: BA.4.01 Tanácsterem \nHatározatképtelenség esetén a megismételt taggyűlés\nIdőpontja: 2023. szeptember 13.\, 17:00\nHelyszín: BA.4.01 Tanácsterem \nNapirendi pontok:\n\nIEEE beléptetés\nKrasnyánszki Brúnó beszámolója a gólyatábori kitelepülésről\nMegújult weboldal\nÚj terem\nA félév programjai\nKitelepülés az állásbörzén\, felvételi bizottság összehívása\nSzemélyi ügyek (Titkári pozíció\, Tagfelvétel)\nEgyéb\n\nMinden érdeklődőt szívesen várunk és reméljük minél több emberrel találkozhatunk a Taggyűlésen! \nÜdvözlettel\,\nNeumann János Szakkollégium
URL:https://njszk.uni-obuda.hu/event/23-24-tanevnyito-taggyules/
LOCATION:NIK BA.4.01\, Bécsi út 96/B\, Budapest\, Budapest\, 1034\, Magyarország
END:VEVENT
BEGIN:VEVENT
DTSTART;VALUE=DATE:20230916
DTEND;VALUE=DATE:20230917
DTSTAMP:20260421T202003
CREATED:20231021T132201Z
LAST-MODIFIED:20231021T132201Z
UID:284-1694822400-1694908799@njszk.uni-obuda.hu
SUMMARY:VI. Energia az információbiztonságban konferencia
DESCRIPTION:Nemzeti Közszolgálati Egyetem rendezvénye. SZERVEZÉS ALATT! De meghívást kaptunk rá
URL:https://njszk.uni-obuda.hu/event/vi-energia-az-informaciobiztonsagban-konferencia/
LOCATION:Budapest
END:VEVENT
BEGIN:VEVENT
DTSTART;VALUE=DATE:20230916
DTEND;VALUE=DATE:20230917
DTSTAMP:20260421T202003
CREATED:20231021T132201Z
LAST-MODIFIED:20231021T132201Z
UID:274-1694822400-1694908799@njszk.uni-obuda.hu
SUMMARY:Kutatások a hadtudományban V.
DESCRIPTION:Óbudai Egyetem Neumann János Szakkollégium és a Nemzeti Közszolgálati Egyetem Puskás Tivadar Műszaki Szakkollégium közös rendezvénye lesz. SZERVEZÉS ALATT
URL:https://njszk.uni-obuda.hu/event/kutatasok-a-hadtudomanyban-v/
LOCATION:Budapest
END:VEVENT
BEGIN:VEVENT
DTSTART;VALUE=DATE:20230918
DTEND;VALUE=DATE:20230919
DTSTAMP:20260421T202003
CREATED:20230916T161514Z
LAST-MODIFIED:20231021T132201Z
UID:254-1694995200-1695081599@njszk.uni-obuda.hu
SUMMARY:Teadélután - Generális Neurális Hálók
DESCRIPTION:Óbudai Egyetem Neumann János Szakkollégium és a Nemzeti Közszolgálati Egyetem Puskás Tivadar Műszaki Szakkollégium közös teadélutána\, ahol megvitatjuk a Mesterséges Intelligencia BOOM hatásait\, illetve lehetséges kimeneteit.
URL:https://njszk.uni-obuda.hu/event/teadelutan-generalis-neuralis-halok/
LOCATION:Budapest
END:VEVENT
BEGIN:VEVENT
DTSTART;VALUE=DATE:20230920
DTEND;VALUE=DATE:20230921
DTSTAMP:20260421T202003
CREATED:20230916T161259Z
LAST-MODIFIED:20231021T132201Z
UID:252-1695168000-1695254399@njszk.uni-obuda.hu
SUMMARY:Információvédelem menedzselése CVII. Szakmai Fórum
DESCRIPTION:A rendezvény programja: \n09.30 – 10.00 Érkezés\, regisztráció \n10.00 – 11.30 Köszöntő és bevezető gondolatok – Aktualitások az információvédelem területén \nDr. Ködmön István (Hétpecsét) alelnök \nTanúsítványkezelés kihívásai napjainkban \nKovács Tamás (Noreg Információvédelmi Kft.) műszaki igazgató \nA vállalati ellenálló képesség növelése a szervezeti kultúra és a kiberhigiénia fejlesztésével \nSzolnoki Éva Gabriella )Magyar Energetikai és Közmű-szabályozási Hivatal) biztonsági vezető \n11.30 – 11.50 Kávé szünet (kávé\, üdítő\, pogácsa\, aprósütemény) \n11.50 – 13.00 „Az év információvédelmi dolgozata 2023” cím nyertes előadása \nAsztro-geopolitika és kiberbiztonság \nDr. Nyáry Gábor (NKE) vezető kutató
URL:https://njszk.uni-obuda.hu/event/informaciovedelem-menedzselese-cvii-szakmai-forum/
LOCATION:Budapest
END:VEVENT
BEGIN:VEVENT
DTSTART;VALUE=DATE:20230922
DTEND;VALUE=DATE:20230923
DTSTAMP:20260421T202003
CREATED:20230916T161558Z
LAST-MODIFIED:20231203T181711Z
UID:256-1695340800-1695427199@njszk.uni-obuda.hu
SUMMARY:EKIK bemutatkozó konferencia
DESCRIPTION:Az Óbudai Egyetemen működő Kutatási és Innovációs Központ bemutatkozó minikonferenciát tart\, ahol bemutatják a jelenleg folyó kutatásikat.
URL:https://njszk.uni-obuda.hu/event/ekik-bemutatkozo-konferencia/
LOCATION:Budapest
END:VEVENT
BEGIN:VEVENT
DTSTART;VALUE=DATE:20230929
DTEND;VALUE=DATE:20230930
DTSTAMP:20260421T202003
CREATED:20230916T161918Z
LAST-MODIFIED:20231021T132201Z
UID:264-1695945600-1696031999@njszk.uni-obuda.hu
SUMMARY:Kutatók éjszakája
DESCRIPTION:A szakkollégiumunk 2 karon mutatja jelenleg futó kutatásait és projekjeit.
URL:https://njszk.uni-obuda.hu/event/kutatok-ejszakaja-2/
LOCATION:Budapest
END:VEVENT
BEGIN:VEVENT
DTSTART;VALUE=DATE:20231012
DTEND;VALUE=DATE:20231013
DTSTAMP:20260421T202003
CREATED:20230916T162058Z
LAST-MODIFIED:20231021T132201Z
UID:268-1697068800-1697155199@njszk.uni-obuda.hu
SUMMARY:Kutatás módszertan képzés
DESCRIPTION:Dr. Habil Kollár Csaba kutatásmódszertani képzést fog tartni a szakkollégiumnak
URL:https://njszk.uni-obuda.hu/event/kutatas-modszertan-kepzes/
LOCATION:Budapest
END:VEVENT
BEGIN:VEVENT
DTSTART;TZID=UTC:20231018T180000
DTEND;TZID=UTC:20231018T200000
DTSTAMP:20260421T202003
CREATED:20231017T194141Z
LAST-MODIFIED:20231021T132339Z
UID:318-1697652000-1697659200@njszk.uni-obuda.hu
SUMMARY:AI-3T: Vitaest a mesterséges intelligenciáról
DESCRIPTION:Mely területe lesz a mesterséges intelligenciának tiltott\, tűrt vagy éppen támogatott? Az egységes etikaii kódex és AI szabályozás tehet pontot sok most még megoldatlan probléma végére\, ami lehet\, nem is lesz annyira egységes. Sok más mellett ezekre a dilemmákra is keresik azon a vitaesten a választ\, ahol Georgiu Achilles-t\, Rab Árpádot és Szekrényi Pétert (Pedrót) kérdezik. A vitaest 2023. október 18-án 17 órakor kezdődik az ÓE központi kampuszának F01-es termében. \nAz eseményen a szakkollégium elnöke\, Krasnyánszki Búnó Barnabás fog moderálni. \nEsemény facebook linkje:\nhttps://www.facebook.com/events/705722464924914
URL:https://njszk.uni-obuda.hu/event/ai-3t-vitaest-a-mesterseges-intelligenciarol/
LOCATION:Budapest
END:VEVENT
BEGIN:VEVENT
DTSTART;VALUE=DATE:20231026
DTEND;VALUE=DATE:20231027
DTSTAMP:20260421T202003
CREATED:20230916T162008Z
LAST-MODIFIED:20231203T181935Z
UID:266-1698278400-1698364799@njszk.uni-obuda.hu
SUMMARY:Kiberdiplomácia jelentősége a XXI. századi kiberbiztonságban
DESCRIPTION:A Külgazdasági és Külügyminisztérium Biztonságpolitikai és Nonproliferációs Főosztályának kiberkoordinátora Horváth Péter fog előadást tartani ‘Kibediplomácia jelentősége a XII. századi kiberbiztonságban’ cmmel
URL:https://njszk.uni-obuda.hu/event/kibediplomacia-jelentosege-a-xii-szazadi-kiberbiztonsagban/
LOCATION:Budapest
END:VEVENT
END:VCALENDAR