BEGIN:VCALENDAR
VERSION:2.0
PRODID:-//NJSZK - ECPv6.2.8.2//NONSGML v1.0//EN
CALSCALE:GREGORIAN
METHOD:PUBLISH
X-ORIGINAL-URL:https://njszk.uni-obuda.hu
X-WR-CALDESC:Events for NJSZK
REFRESH-INTERVAL;VALUE=DURATION:PT1H
X-Robots-Tag:noindex
X-PUBLISHED-TTL:PT1H
BEGIN:VTIMEZONE
TZID:UTC
BEGIN:STANDARD
TZOFFSETFROM:+0000
TZOFFSETTO:+0000
TZNAME:UTC
DTSTART:20240101T000000
END:STANDARD
TZID:Europe/Paris
BEGIN:DAYLIGHT
TZOFFSETFROM:+0100
TZOFFSETTO:+0200
TZNAME:CEST
DTSTART:20250330T010000
END:DAYLIGHT
BEGIN:STANDARD
TZOFFSETFROM:+0200
TZOFFSETTO:+0100
TZNAME:CET
DTSTART:20251026T010000
END:STANDARD
END:VTIMEZONE
BEGIN:VEVENT
DTSTART;TZID=UTC:20241202T160000
DTEND;TZID=UTC:20241202T193000
DTSTAMP:20260419T231551
CREATED:20250107T095255Z
LAST-MODIFIED:20250107T095329Z
UID:456-1733155200-1733167800@njszk.uni-obuda.hu
SUMMARY:AI - Barátunk vagy ellenségünk
DESCRIPTION:Az immáron 3.-jára megszervezett nagysikerű konferenciára sok szeretettel hívunk meg minden érdeklődőt!
URL:https://njszk.uni-obuda.hu/event/ai-baratunk-vagy-ellensegunk/
LOCATION:1089\, Budapest\, Üllői út 82.\, 1089\, Budapest\, Üllői út 82.
END:VEVENT
BEGIN:VEVENT
DTSTART;TZID=Europe/Paris:20250221T190000
DTEND;TZID=Europe/Paris:20250221T210000
DTSTAMP:20260419T231551
CREATED:20250129T191649Z
LAST-MODIFIED:20260227T114137Z
UID:463-1740164400-1740171600@njszk.uni-obuda.hu
SUMMARY:24/25 Tanév tavaszi félévét nyitó gyűlés
DESCRIPTION:Az NJSZK elnöksége az őszi félévet lezáró és a tavaszi félévet meggyitó taggyűlését a következők szerint hívja össze: \nHelyszín: BA.401 terem\nIdőpont: 2025.02.21.\, 17:00 – 19:00 \nA taggyűlés jelenléti formában lesz megtartva\, és minden szakkollégistának számítunk a részvételére\, hiszen rendkívül fontos ügyekről fogunk szavazni! \nNapirend: \n\nSzemélyi ügyek\nSZMSZ módosítás/kiegészítés\nRendezvények\, programok\nEgyéb\n\nHatározatképtelenség esetén a megismételt taggyűlés időpontja: 2025.02.21.\, 17:30
URL:https://njszk.uni-obuda.hu/event/24-25-tanev-tavaszi-felevet-nyito-gyules/
LOCATION:NIK BA.4.01\, Bécsi út 96/B\, Budapest\, Budapest\, 1034\, Magyarország
END:VEVENT
END:VCALENDAR